BEGIN:VCALENDAR
VERSION:2.0
PRODID:-//Pink Spice Band - ECPv6.15.20//NONSGML v1.0//EN
CALSCALE:GREGORIAN
METHOD:PUBLISH
X-ORIGINAL-URL:https://pinkspiceband.com
X-WR-CALDESC:Events for Pink Spice Band
REFRESH-INTERVAL;VALUE=DURATION:PT1H
X-Robots-Tag:noindex
X-PUBLISHED-TTL:PT1H
BEGIN:VTIMEZONE
TZID:America/New_York
BEGIN:DAYLIGHT
TZOFFSETFROM:-0500
TZOFFSETTO:-0400
TZNAME:EDT
DTSTART:20240310T070000
END:DAYLIGHT
BEGIN:STANDARD
TZOFFSETFROM:-0400
TZOFFSETTO:-0500
TZNAME:EST
DTSTART:20241103T060000
END:STANDARD
BEGIN:DAYLIGHT
TZOFFSETFROM:-0500
TZOFFSETTO:-0400
TZNAME:EDT
DTSTART:20250309T070000
END:DAYLIGHT
BEGIN:STANDARD
TZOFFSETFROM:-0400
TZOFFSETTO:-0500
TZNAME:EST
DTSTART:20251102T060000
END:STANDARD
BEGIN:DAYLIGHT
TZOFFSETFROM:-0500
TZOFFSETTO:-0400
TZNAME:EDT
DTSTART:20260308T070000
END:DAYLIGHT
BEGIN:STANDARD
TZOFFSETFROM:-0400
TZOFFSETTO:-0500
TZNAME:EST
DTSTART:20261101T060000
END:STANDARD
END:VTIMEZONE
BEGIN:VEVENT
DTSTART;TZID=America/New_York:20250329T130000
DTEND;TZID=America/New_York:20250329T130000
DTSTAMP:20260421T100410
CREATED:20250102T205305Z
LAST-MODIFIED:20250102T205305Z
UID:631-1743253200-1743253200@pinkspiceband.com
SUMMARY:Pink Spice at Elements
DESCRIPTION:
URL:https://pinkspiceband.com/event/pink-spice-at-elements-3/
LOCATION:FL
CATEGORIES:Solo
END:VEVENT
BEGIN:VEVENT
DTSTART;TZID=America/New_York:20250330T180000
DTEND;TZID=America/New_York:20250330T180000
DTSTAMP:20260421T100410
CREATED:20250102T192406Z
LAST-MODIFIED:20250102T205305Z
UID:458-1743357600-1743357600@pinkspiceband.com
SUMMARY:Pink Spice at Orchid
DESCRIPTION:
URL:https://pinkspiceband.com/event/pink-spice-at-orchid/
LOCATION:FL
CATEGORIES:Full Band
END:VEVENT
BEGIN:VEVENT
DTSTART;TZID=America/New_York:20250404T190000
DTEND;TZID=America/New_York:20250404T230000
DTSTAMP:20260421T100410
CREATED:20250102T192408Z
LAST-MODIFIED:20250401T154452Z
UID:459-1743793200-1743807600@pinkspiceband.com
SUMMARY:Pink Spice at George and Dragon
DESCRIPTION:
URL:https://pinkspiceband.com/event/pink-spice-at-george-and-dragon-2/
LOCATION:George & Dragon English Tavern\, 502 Brevard Avenue\, Cocoa\, FL\, United States
CATEGORIES:Full Band
END:VEVENT
BEGIN:VEVENT
DTSTART;TZID=America/New_York:20250405T180000
DTEND;TZID=America/New_York:20250405T210000
DTSTAMP:20260421T100410
CREATED:20250102T205306Z
LAST-MODIFIED:20250401T154626Z
UID:632-1743876000-1743886800@pinkspiceband.com
SUMMARY:Pink Spice at Vero Beach Yacht Club
DESCRIPTION:
URL:https://pinkspiceband.com/event/pink-spice-at-vero-beach-yacht-club-4/
LOCATION:Vero Beach Yacht Club\, 3601 Rio Vista Blvd\, Vero Beach\, FL\, 32963\, United States
CATEGORIES:Solo
END:VEVENT
BEGIN:VEVENT
DTSTART;TZID=America/New_York:20250411T170000
DTEND;TZID=America/New_York:20250411T210000
DTSTAMP:20260421T100410
CREATED:20250102T192409Z
LAST-MODIFIED:20250401T154816Z
UID:461-1744390800-1744405200@pinkspiceband.com
SUMMARY:Pink Spice at PAFB Manatee Cove
DESCRIPTION:
URL:https://pinkspiceband.com/event/pink-spice-at-pafb-manatee-cove-2/
LOCATION:Manatee Cove Marina and Yacht Club – Patrick AFB\, Bldg 1493\, Patrick AFB\, FL\, 32935\, United States
CATEGORIES:Full Band
END:VEVENT
BEGIN:VEVENT
DTSTART;TZID=America/New_York:20250412T180000
DTEND;TZID=America/New_York:20250412T220000
DTSTAMP:20260421T100410
CREATED:20250102T192409Z
LAST-MODIFIED:20250401T154911Z
UID:462-1744480800-1744495200@pinkspiceband.com
SUMMARY:Pink Spice at Barefoot Bay
DESCRIPTION:
URL:https://pinkspiceband.com/event/pink-spice-at-barefoot-bay-3/
LOCATION:Barefoot Bay Recreation Center\, 625 Barefoot Rd\, Barefoot Bay\, FL\, 32976\, United States
CATEGORIES:Full Band
END:VEVENT
BEGIN:VEVENT
DTSTART;TZID=America/New_York:20250418T183000
DTEND;TZID=America/New_York:20250418T213000
DTSTAMP:20260421T100410
CREATED:20250102T205505Z
LAST-MODIFIED:20250401T155014Z
UID:634-1745001000-1745011800@pinkspiceband.com
SUMMARY:Pink Spice at Eau Gallie Yacht Club
DESCRIPTION:
URL:https://pinkspiceband.com/event/pink-spice-at-eau-gallie-yacht-club-3/
LOCATION:Eau Gallie Yacht Club\, 100 Datura Dr\, Indian Harbour Beach\, FL\, 32937\, United States
CATEGORIES:Solo
END:VEVENT
BEGIN:VEVENT
DTSTART;TZID=America/New_York:20250424T190000
DTEND;TZID=America/New_York:20250424T220000
DTSTAMP:20260421T100410
CREATED:20250102T205705Z
LAST-MODIFIED:20250401T155201Z
UID:636-1745521200-1745532000@pinkspiceband.com
SUMMARY:Pink Spice at Satellite Beach Moose Lodge
DESCRIPTION:
URL:https://pinkspiceband.com/event/pink-spice-at-flames-10/
LOCATION:Satellite Beach Moose Lodge\, 1815 S Patrick Dr\, Indian Harbor Beach\, 32037\, United States
CATEGORIES:Solo
END:VEVENT
BEGIN:VEVENT
DTSTART;TZID=America/New_York:20250426T180000
DTEND;TZID=America/New_York:20250426T180000
DTSTAMP:20260421T100410
CREATED:20250102T192437Z
LAST-MODIFIED:20250102T205706Z
UID:464-1745690400-1745690400@pinkspiceband.com
SUMMARY:Pink Spice at Crowne Plaza
DESCRIPTION:
URL:https://pinkspiceband.com/event/pink-spice-at-crowne-plaza-7/
LOCATION:FL
CATEGORIES:Full Band
END:VEVENT
BEGIN:VEVENT
DTSTART;TZID=America/New_York:20250427T130000
DTEND;TZID=America/New_York:20250427T130000
DTSTAMP:20260421T100410
CREATED:20250102T205705Z
LAST-MODIFIED:20250102T205705Z
UID:637-1745758800-1745758800@pinkspiceband.com
SUMMARY:Pink Spice at Elements
DESCRIPTION:
URL:https://pinkspiceband.com/event/pink-spice-at-elements-4/
LOCATION:FL
CATEGORIES:Solo
END:VEVENT
BEGIN:VEVENT
DTSTART;TZID=America/New_York:20250502T180000
DTEND;TZID=America/New_York:20250502T180000
DTSTAMP:20260421T100410
CREATED:20250102T205706Z
LAST-MODIFIED:20250501T165548Z
UID:639-1746208800-1746208800@pinkspiceband.com
SUMMARY:Pink Spice at Eau Galllie Yacht Club
DESCRIPTION:
URL:https://pinkspiceband.com/event/pink-spice-at-hilton-hotel-4/
LOCATION:Eau Gallie Yacht Club\, 100 Datura Dr\, Indian Harbour Beach\, FL\, 32937\, United States
CATEGORIES:Duo
END:VEVENT
BEGIN:VEVENT
DTSTART;TZID=America/New_York:20250503T180000
DTEND;TZID=America/New_York:20250503T180000
DTSTAMP:20260421T100410
CREATED:20250102T205705Z
LAST-MODIFIED:20250102T205705Z
UID:638-1746295200-1746295200@pinkspiceband.com
SUMMARY:Pink Spice at Vero Beach Yacht Club
DESCRIPTION:
URL:https://pinkspiceband.com/event/pink-spice-at-vero-beach-yacht-club-5/
LOCATION:FL
CATEGORIES:Solo
END:VEVENT
BEGIN:VEVENT
DTSTART;TZID=America/New_York:20250509T183000
DTEND;TZID=America/New_York:20250509T183000
DTSTAMP:20260421T100410
CREATED:20250102T205905Z
LAST-MODIFIED:20250102T205905Z
UID:640-1746815400-1746815400@pinkspiceband.com
SUMMARY:Pink Spice at Eau Gallie Yacht Club
DESCRIPTION:
URL:https://pinkspiceband.com/event/pink-spice-at-eau-gallie-yacht-club-4/
LOCATION:Eau Gallie Yacht Club\, 100 Datura Dr\, Indian Harbour Beach\, FL\, 32937\, United States
CATEGORIES:Solo
END:VEVENT
BEGIN:VEVENT
DTSTART;TZID=America/New_York:20250510T180000
DTEND;TZID=America/New_York:20250510T180000
DTSTAMP:20260421T100410
CREATED:20250102T192438Z
LAST-MODIFIED:20250102T205905Z
UID:466-1746900000-1746900000@pinkspiceband.com
SUMMARY:Pink Spice at Rooneys
DESCRIPTION:
URL:https://pinkspiceband.com/event/pink-spice-at-rooneys-3/
LOCATION:FL
CATEGORIES:TRIO
END:VEVENT
BEGIN:VEVENT
DTSTART;TZID=America/New_York:20250511T160000
DTEND;TZID=America/New_York:20250511T160000
DTSTAMP:20260421T100410
CREATED:20250102T205906Z
LAST-MODIFIED:20250102T205906Z
UID:642-1746979200-1746979200@pinkspiceband.com
SUMMARY:Pink Spice at PAFB Manatee Cove
DESCRIPTION:
URL:https://pinkspiceband.com/event/pink-spice-at-pafb-manatee-cove-7/
LOCATION:FL
CATEGORIES:Solo
END:VEVENT
BEGIN:VEVENT
DTSTART;TZID=America/New_York:20250516T170000
DTEND;TZID=America/New_York:20250516T170000
DTSTAMP:20260421T100410
CREATED:20250102T192438Z
LAST-MODIFIED:20250102T205906Z
UID:467-1747414800-1747414800@pinkspiceband.com
SUMMARY:Pink Spice at PAFB Manatee Cove
DESCRIPTION:
URL:https://pinkspiceband.com/event/pink-spice-at-pafb-manatee-cove-3/
LOCATION:FL
CATEGORIES:Full Band
END:VEVENT
BEGIN:VEVENT
DTSTART;TZID=America/New_York:20250517T180000
DTEND;TZID=America/New_York:20250517T180000
DTSTAMP:20260421T100410
CREATED:20250102T192448Z
LAST-MODIFIED:20250102T210105Z
UID:469-1747504800-1747504800@pinkspiceband.com
SUMMARY:Pink Spice at Crowne Plaza
DESCRIPTION:
URL:https://pinkspiceband.com/event/pink-spice-at-crowne-plaza-8/
LOCATION:FL
CATEGORIES:Full Band
END:VEVENT
BEGIN:VEVENT
DTSTART;TZID=America/New_York:20250523T170000
DTEND;TZID=America/New_York:20250523T170000
DTSTAMP:20260421T100410
CREATED:20250102T192438Z
LAST-MODIFIED:20250519T155832Z
UID:468-1748019600-1748019600@pinkspiceband.com
SUMMARY:Pink Spice at Dolphins Waterfront
DESCRIPTION:
URL:https://pinkspiceband.com/event/pink-spice-at-dolphins-waterfront-2/
LOCATION:Dolphins Waterfront Bar & Grill\, 310 Lagoon Way\, Merritt Island\, FL\, United States
CATEGORIES:QUARTET
END:VEVENT
BEGIN:VEVENT
DTSTART;TZID=America/New_York:20250524T190000
DTEND;TZID=America/New_York:20250524T190000
DTSTAMP:20260421T100410
CREATED:20250102T192448Z
LAST-MODIFIED:20250102T210106Z
UID:470-1748113200-1748113200@pinkspiceband.com
SUMMARY:Pink Spice at Pineda Inn
DESCRIPTION:
URL:https://pinkspiceband.com/event/pink-spice-at-pineda-inn-3/
LOCATION:FL
CATEGORIES:Full Band
END:VEVENT
BEGIN:VEVENT
DTSTART;TZID=America/New_York:20250525T150000
DTEND;TZID=America/New_York:20250525T190000
DTSTAMP:20260421T100410
CREATED:20250501T170002Z
LAST-MODIFIED:20250501T170002Z
UID:722-1748185200-1748199600@pinkspiceband.com
SUMMARY:Pink Spice at Mavericks
DESCRIPTION:
URL:https://pinkspiceband.com/event/pink-spice-at-mavericks-2/
LOCATION:Mavericks\, 1132 Hwy A1A\, Satellite Beach\, FL\, 32937\, United States
END:VEVENT
BEGIN:VEVENT
DTSTART;TZID=America/New_York:20250530T183000
DTEND;TZID=America/New_York:20250530T213000
DTSTAMP:20260421T100410
CREATED:20250501T170402Z
LAST-MODIFIED:20250501T170413Z
UID:724-1748629800-1748640600@pinkspiceband.com
SUMMARY:Pink Spice Band at Squid Lips Melbourne
DESCRIPTION:
URL:https://pinkspiceband.com/event/pink-spice-band-at-squid-lips-melbourne/
LOCATION:Squid Lips – Melboourne\, 1477 Pineapple Ave\, Melbourne\, FL\, 32935\, United States
CATEGORIES:Full Band
END:VEVENT
BEGIN:VEVENT
DTSTART;TZID=America/New_York:20250531T190000
DTEND;TZID=America/New_York:20250531T190000
DTSTAMP:20260421T100410
CREATED:20250102T192449Z
LAST-MODIFIED:20250501T170516Z
UID:472-1748718000-1748718000@pinkspiceband.com
SUMMARY:Pink Spice at George and Dragon
DESCRIPTION:
URL:https://pinkspiceband.com/event/pink-spice-at-george-and-dragon-3/
LOCATION:George & Dragon English Tavern\, 502 Brevard Avenue\, Cocoa\, FL\, United States
CATEGORIES:Full Band
END:VEVENT
BEGIN:VEVENT
DTSTART;TZID=America/New_York:20250606T200000
DTEND;TZID=America/New_York:20250606T200000
DTSTAMP:20260421T100410
CREATED:20250102T192451Z
LAST-MODIFIED:20250102T210305Z
UID:474-1749240000-1749240000@pinkspiceband.com
SUMMARY:Pink Spice at Crickets
DESCRIPTION:
URL:https://pinkspiceband.com/event/pink-spice-at-crickets-5/
LOCATION:FL
CATEGORIES:Full Band
END:VEVENT
BEGIN:VEVENT
DTSTART;TZID=America/New_York:20250608T170000
DTEND;TZID=America/New_York:20250608T200000
DTSTAMP:20260421T100410
CREATED:20250603T213501Z
LAST-MODIFIED:20250603T213501Z
UID:730-1749402000-1749412800@pinkspiceband.com
SUMMARY:Pink Spice at Squid Lips - Melbourne
DESCRIPTION:
URL:https://pinkspiceband.com/event/pink-spice-at-squid-lips-melbourne/
LOCATION:Squid Lips – Melboourne\, 1477 Pineapple Ave\, Melbourne\, FL\, 32935\, United States
CATEGORIES:Full Band
END:VEVENT
BEGIN:VEVENT
DTSTART;TZID=America/New_York:20250613T183000
DTEND;TZID=America/New_York:20250613T183000
DTSTAMP:20260421T100410
CREATED:20250102T210305Z
LAST-MODIFIED:20250102T210305Z
UID:646-1749839400-1749839400@pinkspiceband.com
SUMMARY:Pink Spice at Eau Gallie Yacht Club
DESCRIPTION:
URL:https://pinkspiceband.com/event/pink-spice-at-eau-gallie-yacht-club-5/
LOCATION:Eau Gallie Yacht Club\, 100 Datura Dr\, Indian Harbour Beach\, FL\, 32937\, United States
CATEGORIES:Solo
END:VEVENT
BEGIN:VEVENT
DTSTART;TZID=America/New_York:20250614T180000
DTEND;TZID=America/New_York:20250614T180000
DTSTAMP:20260421T100410
CREATED:20250102T192452Z
LAST-MODIFIED:20250102T210306Z
UID:475-1749924000-1749924000@pinkspiceband.com
SUMMARY:Pink Spice at Crowne Plaza
DESCRIPTION:
URL:https://pinkspiceband.com/event/pink-spice-at-crowne-plaza-9/
LOCATION:FL
CATEGORIES:Full Band
END:VEVENT
BEGIN:VEVENT
DTSTART;TZID=America/New_York:20250620T180000
DTEND;TZID=America/New_York:20250620T180000
DTSTAMP:20260421T100410
CREATED:20250102T192452Z
LAST-MODIFIED:20250102T210342Z
UID:476-1750442400-1750442400@pinkspiceband.com
SUMMARY:Pink Spice at Rooneys
DESCRIPTION:
URL:https://pinkspiceband.com/event/pink-spice-at-rooneys-4/
LOCATION:FL
CATEGORIES:Full Band
END:VEVENT
BEGIN:VEVENT
DTSTART;TZID=America/New_York:20250628T183000
DTEND;TZID=America/New_York:20250628T183000
DTSTAMP:20260421T100410
CREATED:20250102T192452Z
LAST-MODIFIED:20250102T210353Z
UID:478-1751135400-1751135400@pinkspiceband.com
SUMMARY:Pink Spice at Squidlips - Sebastian
DESCRIPTION:
URL:https://pinkspiceband.com/event/pink-spice-at-squidlips-sebastian-2/
LOCATION:FL
CATEGORIES:Full Band
END:VEVENT
BEGIN:VEVENT
DTSTART;TZID=America/New_York:20250629T130000
DTEND;TZID=America/New_York:20250629T130000
DTSTAMP:20260421T100410
CREATED:20250102T210342Z
LAST-MODIFIED:20250102T210342Z
UID:649-1751202000-1751202000@pinkspiceband.com
SUMMARY:Pink Spice at Elements
DESCRIPTION:
URL:https://pinkspiceband.com/event/pink-spice-at-elements-5/
LOCATION:FL
CATEGORIES:Solo
END:VEVENT
BEGIN:VEVENT
DTSTART;TZID=America/New_York:20250704T183000
DTEND;TZID=America/New_York:20250704T183000
DTSTAMP:20260421T100410
CREATED:20250102T210343Z
LAST-MODIFIED:20250102T210343Z
UID:650-1751653800-1751653800@pinkspiceband.com
SUMMARY:Pink Spice at Eau Gallie Yacht Club
DESCRIPTION:
URL:https://pinkspiceband.com/event/pink-spice-at-eau-gallie-yacht-club-6/
LOCATION:Eau Gallie Yacht Club\, 100 Datura Dr\, Indian Harbour Beach\, FL\, 32937\, United States
CATEGORIES:Solo
END:VEVENT
END:VCALENDAR