BEGIN:VCALENDAR
VERSION:2.0
PRODID:-//Pink Spice Band - ECPv6.15.20//NONSGML v1.0//EN
CALSCALE:GREGORIAN
METHOD:PUBLISH
X-WR-CALNAME:Pink Spice Band
X-ORIGINAL-URL:https://pinkspiceband.com
X-WR-CALDESC:Events for Pink Spice Band
REFRESH-INTERVAL;VALUE=DURATION:PT1H
X-Robots-Tag:noindex
X-PUBLISHED-TTL:PT1H
BEGIN:VTIMEZONE
TZID:America/New_York
BEGIN:DAYLIGHT
TZOFFSETFROM:-0500
TZOFFSETTO:-0400
TZNAME:EDT
DTSTART:20240310T070000
END:DAYLIGHT
BEGIN:STANDARD
TZOFFSETFROM:-0400
TZOFFSETTO:-0500
TZNAME:EST
DTSTART:20241103T060000
END:STANDARD
BEGIN:DAYLIGHT
TZOFFSETFROM:-0500
TZOFFSETTO:-0400
TZNAME:EDT
DTSTART:20250309T070000
END:DAYLIGHT
BEGIN:STANDARD
TZOFFSETFROM:-0400
TZOFFSETTO:-0500
TZNAME:EST
DTSTART:20251102T060000
END:STANDARD
BEGIN:DAYLIGHT
TZOFFSETFROM:-0500
TZOFFSETTO:-0400
TZNAME:EDT
DTSTART:20260308T070000
END:DAYLIGHT
BEGIN:STANDARD
TZOFFSETFROM:-0400
TZOFFSETTO:-0500
TZNAME:EST
DTSTART:20261101T060000
END:STANDARD
END:VTIMEZONE
BEGIN:VEVENT
DTSTART;TZID=America/New_York:20250208T180000
DTEND;TZID=America/New_York:20250208T210000
DTSTAMP:20260421T190844
CREATED:20250102T192349Z
LAST-MODIFIED:20250103T145331Z
UID:448-1739037600-1739048400@pinkspiceband.com
SUMMARY:Pink Spice at Crowne Plaza
DESCRIPTION:
URL:https://pinkspiceband.com/event/pink-spice-at-crowne-plaza/
LOCATION:Longboards Oceanfront Melbourne at Crowne Plaza\, 2605 N Hwy A1A\, Melbourne\, FL\, United States
CATEGORIES:Full Band
END:VEVENT
BEGIN:VEVENT
DTSTART;TZID=America/New_York:20250207T180000
DTEND;TZID=America/New_York:20250207T220000
DTSTAMP:20260421T190844
CREATED:20250102T192348Z
LAST-MODIFIED:20250103T145240Z
UID:447-1738951200-1738965600@pinkspiceband.com
SUMMARY:Pink Spice at Rooneys
DESCRIPTION:
URL:https://pinkspiceband.com/event/pink-spice-at-rooneys/
LOCATION:Rooney’s Cafe & Bar\, 2641 Palm Bay Rd NE\, Palm Bay\, FL\, United States
CATEGORIES:Full Band
END:VEVENT
BEGIN:VEVENT
DTSTART;TZID=America/New_York:20250206T180000
DTEND;TZID=America/New_York:20250206T220000
DTSTAMP:20260421T190844
CREATED:20250102T192348Z
LAST-MODIFIED:20250103T144832Z
UID:446-1738864800-1738879200@pinkspiceband.com
SUMMARY:Pink Spice at Grand Harbor\, VB
DESCRIPTION:
URL:https://pinkspiceband.com/event/pink-spice-at-grand-harbor-vb/
LOCATION:Grand Harbor\, Vero Beach\, FL\, 32967\, United States
CATEGORIES:Full Band
END:VEVENT
BEGIN:VEVENT
DTSTART;TZID=America/New_York:20250201T180000
DTEND;TZID=America/New_York:20250201T210000
DTSTAMP:20260421T190844
CREATED:20250102T205223Z
LAST-MODIFIED:20250103T143923Z
UID:619-1738432800-1738443600@pinkspiceband.com
SUMMARY:Pink Spice at Vero Beach Yacht Club
DESCRIPTION:
URL:https://pinkspiceband.com/event/pink-spice-at-vero-beach-yacht-club-2/
LOCATION:Vero Beach Yacht Club\, 3601 Rio Vista Blvd\, Vero Beach\, FL\, 32963\, United States
CATEGORIES:Solo
END:VEVENT
BEGIN:VEVENT
DTSTART;TZID=America/New_York:20250126T140000
DTEND;TZID=America/New_York:20250126T180000
DTSTAMP:20260421T190844
CREATED:20250102T192347Z
LAST-MODIFIED:20250103T143719Z
UID:443-1737900000-1737914400@pinkspiceband.com
SUMMARY:Pink Spice at Barefoot Bay
DESCRIPTION:
URL:https://pinkspiceband.com/event/pink-spice-at-barefoot-bay/
LOCATION:Barefoot Bay Recreation Center\, 625 Barefoot Rd\, Barefoot Bay\, FL\, 32976\, United States
CATEGORIES:Full Band
END:VEVENT
BEGIN:VEVENT
DTSTART;TZID=America/New_York:20250118T193000
DTEND;TZID=America/New_York:20250118T220000
DTSTAMP:20260421T190844
CREATED:20250102T192346Z
LAST-MODIFIED:20250118T140511Z
UID:441-1737228600-1737237600@pinkspiceband.com
SUMMARY:Pink Spice at Squidlips - Sebastian
DESCRIPTION:
URL:https://pinkspiceband.com/event/pink-spice-at-squidlips-sebastian/
LOCATION:Squid Lips Overwater Grill – Sebastian\, 1660 N. Indian River Dr\, Sebastian\, FL\, 32958\, United States
CATEGORIES:Full Band
END:VEVENT
BEGIN:VEVENT
DTSTART;TZID=America/New_York:20250104T180000
DTEND;TZID=America/New_York:20250104T180000
DTSTAMP:20260421T190844
CREATED:20250102T205220Z
LAST-MODIFIED:20250102T212801Z
UID:614-1736013600-1736013600@pinkspiceband.com
SUMMARY:Pink Spice Private Event
DESCRIPTION:
URL:https://pinkspiceband.com/event/pink-spice-at-vero-beach-yacht-club/
CATEGORIES:Solo
END:VEVENT
END:VCALENDAR