BEGIN:VCALENDAR
VERSION:2.0
PRODID:-//Pink Spice Band - ECPv6.15.20//NONSGML v1.0//EN
CALSCALE:GREGORIAN
METHOD:PUBLISH
X-WR-CALNAME:Pink Spice Band
X-ORIGINAL-URL:https://pinkspiceband.com
X-WR-CALDESC:Events for Pink Spice Band
REFRESH-INTERVAL;VALUE=DURATION:PT1H
X-Robots-Tag:noindex
X-PUBLISHED-TTL:PT1H
BEGIN:VTIMEZONE
TZID:America/New_York
BEGIN:DAYLIGHT
TZOFFSETFROM:-0500
TZOFFSETTO:-0400
TZNAME:EDT
DTSTART:20240310T070000
END:DAYLIGHT
BEGIN:STANDARD
TZOFFSETFROM:-0400
TZOFFSETTO:-0500
TZNAME:EST
DTSTART:20241103T060000
END:STANDARD
BEGIN:DAYLIGHT
TZOFFSETFROM:-0500
TZOFFSETTO:-0400
TZNAME:EDT
DTSTART:20250309T070000
END:DAYLIGHT
BEGIN:STANDARD
TZOFFSETFROM:-0400
TZOFFSETTO:-0500
TZNAME:EST
DTSTART:20251102T060000
END:STANDARD
BEGIN:DAYLIGHT
TZOFFSETFROM:-0500
TZOFFSETTO:-0400
TZNAME:EDT
DTSTART:20260308T070000
END:DAYLIGHT
BEGIN:STANDARD
TZOFFSETFROM:-0400
TZOFFSETTO:-0500
TZNAME:EST
DTSTART:20261101T060000
END:STANDARD
END:VTIMEZONE
BEGIN:VEVENT
DTSTART;TZID=America/New_York:20250928T130000
DTEND;TZID=America/New_York:20250928T130000
DTSTAMP:20260421T133922
CREATED:20250102T210817Z
LAST-MODIFIED:20250102T210817Z
UID:659-1759064400-1759064400@pinkspiceband.com
SUMMARY:Pink Spice at Elements
DESCRIPTION:
URL:https://pinkspiceband.com/event/pink-spice-at-elements-7/
CATEGORIES:Solo
END:VEVENT
BEGIN:VEVENT
DTSTART;TZID=America/New_York:20251003T183000
DTEND;TZID=America/New_York:20251003T183000
DTSTAMP:20260421T133922
CREATED:20250102T210818Z
LAST-MODIFIED:20250102T210818Z
UID:660-1759516200-1759516200@pinkspiceband.com
SUMMARY:Pink Spice at Eau Gallie Yacht Club
DESCRIPTION:
URL:https://pinkspiceband.com/event/pink-spice-at-eau-gallie-yacht-club-10/
LOCATION:Eau Gallie Yacht Club\, 100 Datura Dr\, Indian Harbour Beach\, FL\, 32937\, United States
CATEGORIES:Solo
END:VEVENT
BEGIN:VEVENT
DTSTART;TZID=America/New_York:20251004T180000
DTEND;TZID=America/New_York:20251004T180000
DTSTAMP:20260421T133922
CREATED:20250102T210818Z
LAST-MODIFIED:20250102T210818Z
UID:661-1759600800-1759600800@pinkspiceband.com
SUMMARY:Pink Spice at Vero Beach Yacht Club
DESCRIPTION:
URL:https://pinkspiceband.com/event/pink-spice-at-vero-beach-yacht-club-6/
CATEGORIES:Solo
END:VEVENT
BEGIN:VEVENT
DTSTART;TZID=America/New_York:20251010T180000
DTEND;TZID=America/New_York:20251010T180000
DTSTAMP:20260421T133922
CREATED:20250102T210818Z
LAST-MODIFIED:20250102T210818Z
UID:663-1760119200-1760119200@pinkspiceband.com
SUMMARY:Pink Spice at Hilton Hotel
DESCRIPTION:
URL:https://pinkspiceband.com/event/pink-spice-at-hilton-hotel-5/
CATEGORIES:Duo
END:VEVENT
BEGIN:VEVENT
DTSTART;TZID=America/New_York:20251011T180000
DTEND;TZID=America/New_York:20251011T180000
DTSTAMP:20260421T133922
CREATED:20250102T192624Z
LAST-MODIFIED:20250102T210828Z
UID:497-1760205600-1760205600@pinkspiceband.com
SUMMARY:Pink Spice at Rooneys
DESCRIPTION:
URL:https://pinkspiceband.com/event/pink-spice-at-rooneys-6/
CATEGORIES:Full Band
END:VEVENT
BEGIN:VEVENT
DTSTART;TZID=America/New_York:20251017T193000
DTEND;TZID=America/New_York:20251017T193000
DTSTAMP:20260421T133922
CREATED:20250102T192625Z
LAST-MODIFIED:20250102T210828Z
UID:498-1760729400-1760729400@pinkspiceband.com
SUMMARY:Pink Spice at George and Dragon
DESCRIPTION:
URL:https://pinkspiceband.com/event/pink-spice-at-george-and-dragon-5/
CATEGORIES:Full Band
END:VEVENT
BEGIN:VEVENT
DTSTART;TZID=America/New_York:20251018T180000
DTEND;TZID=America/New_York:20251018T180000
DTSTAMP:20260421T133922
CREATED:20250102T192638Z
LAST-MODIFIED:20250102T210828Z
UID:499-1760810400-1760810400@pinkspiceband.com
SUMMARY:Pink Spice at Crowne Plaza
DESCRIPTION:
URL:https://pinkspiceband.com/event/pink-spice-at-crowne-plaza-12/
CATEGORIES:Full Band
END:VEVENT
BEGIN:VEVENT
DTSTART;TZID=America/New_York:20251024T200000
DTEND;TZID=America/New_York:20251024T200000
DTSTAMP:20260421T133922
CREATED:20250102T192639Z
LAST-MODIFIED:20250102T210828Z
UID:500-1761336000-1761336000@pinkspiceband.com
SUMMARY:Pink Spice at Crickets
DESCRIPTION:
URL:https://pinkspiceband.com/event/pink-spice-at-crickets-9/
CATEGORIES:Full Band
END:VEVENT
BEGIN:VEVENT
DTSTART;TZID=America/New_York:20251025T180000
DTEND;TZID=America/New_York:20251025T180000
DTSTAMP:20260421T133922
CREATED:20250102T192639Z
LAST-MODIFIED:20250102T210829Z
UID:501-1761415200-1761415200@pinkspiceband.com
SUMMARY:Pink Spice at Barefoot Bay
DESCRIPTION:
URL:https://pinkspiceband.com/event/pink-spice-at-barefoot-bay-4/
CATEGORIES:Full Band
END:VEVENT
BEGIN:VEVENT
DTSTART;TZID=America/New_York:20251101T180000
DTEND;TZID=America/New_York:20251101T180000
DTSTAMP:20260421T133922
CREATED:20250102T210838Z
LAST-MODIFIED:20250102T210838Z
UID:665-1762020000-1762020000@pinkspiceband.com
SUMMARY:Pink Spice at Vero Beach Yacht Club
DESCRIPTION:
URL:https://pinkspiceband.com/event/pink-spice-at-vero-beach-yacht-club-7/
CATEGORIES:Solo
END:VEVENT
BEGIN:VEVENT
DTSTART;TZID=America/New_York:20251107T170000
DTEND;TZID=America/New_York:20251107T170000
DTSTAMP:20260421T133922
CREATED:20250102T192653Z
LAST-MODIFIED:20250102T210839Z
UID:504-1762534800-1762534800@pinkspiceband.com
SUMMARY:Pink Spice at Wickham Park
DESCRIPTION:
URL:https://pinkspiceband.com/event/pink-spice-at-wickham-park-2/
CATEGORIES:Full Band
END:VEVENT
BEGIN:VEVENT
DTSTART;TZID=America/New_York:20251108T183000
DTEND;TZID=America/New_York:20251108T183000
DTSTAMP:20260421T133922
CREATED:20250102T192653Z
LAST-MODIFIED:20250102T211038Z
UID:505-1762626600-1762626600@pinkspiceband.com
SUMMARY:Pink Spice at Squidlips - Sebastian
DESCRIPTION:
URL:https://pinkspiceband.com/event/pink-spice-at-squidlips-sebastian-4/
CATEGORIES:Full Band
END:VEVENT
BEGIN:VEVENT
DTSTART;TZID=America/New_York:20251115T190000
DTEND;TZID=America/New_York:20251115T190000
DTSTAMP:20260421T133922
CREATED:20250102T192653Z
LAST-MODIFIED:20250102T211038Z
UID:506-1763233200-1763233200@pinkspiceband.com
SUMMARY:Pink Spice at Pineda Inn
DESCRIPTION:
URL:https://pinkspiceband.com/event/pink-spice-at-pineda-inn-6/
CATEGORIES:Full Band
END:VEVENT
BEGIN:VEVENT
DTSTART;TZID=America/New_York:20251121T170000
DTEND;TZID=America/New_York:20251121T170000
DTSTAMP:20260421T133922
CREATED:20250102T192653Z
LAST-MODIFIED:20250102T211038Z
UID:507-1763744400-1763744400@pinkspiceband.com
SUMMARY:Pink Spice at PAFB Manatee Cove
DESCRIPTION:
URL:https://pinkspiceband.com/event/pink-spice-at-pafb-manatee-cove-5/
CATEGORIES:Full Band
END:VEVENT
BEGIN:VEVENT
DTSTART;TZID=America/New_York:20251122T130000
DTEND;TZID=America/New_York:20251122T130000
DTSTAMP:20260421T133922
CREATED:20250102T211039Z
LAST-MODIFIED:20250102T211039Z
UID:668-1763816400-1763816400@pinkspiceband.com
SUMMARY:Pink Spice at Elements
DESCRIPTION:
URL:https://pinkspiceband.com/event/pink-spice-at-elements-8/
CATEGORIES:Solo
END:VEVENT
BEGIN:VEVENT
DTSTART;TZID=America/New_York:20251123T160000
DTEND;TZID=America/New_York:20251123T160000
DTSTAMP:20260421T133922
CREATED:20250102T211039Z
LAST-MODIFIED:20250102T211039Z
UID:669-1763913600-1763913600@pinkspiceband.com
SUMMARY:Pink Spice at PAFB Manatee Cove
DESCRIPTION:
URL:https://pinkspiceband.com/event/pink-spice-at-pafb-manatee-cove-9/
CATEGORIES:Solo
END:VEVENT
BEGIN:VEVENT
DTSTART;TZID=America/New_York:20251129T190000
DTEND;TZID=America/New_York:20251129T190000
DTSTAMP:20260421T133922
CREATED:20250102T192709Z
LAST-MODIFIED:20250102T211238Z
UID:509-1764442800-1764442800@pinkspiceband.com
SUMMARY:Pink Spice at George and Dragon
DESCRIPTION:
URL:https://pinkspiceband.com/event/pink-spice-at-george-and-dragon-6/
CATEGORIES:Full Band
END:VEVENT
BEGIN:VEVENT
DTSTART;TZID=America/New_York:20251206T180000
DTEND;TZID=America/New_York:20251206T180000
DTSTAMP:20260421T133922
CREATED:20250102T211239Z
LAST-MODIFIED:20250102T211239Z
UID:672-1765044000-1765044000@pinkspiceband.com
SUMMARY:Pink Spice at Vero Beach Yacht Club
DESCRIPTION:
URL:https://pinkspiceband.com/event/pink-spice-at-vero-beach-yacht-club-8/
CATEGORIES:Solo
END:VEVENT
BEGIN:VEVENT
DTSTART;TZID=America/New_York:20251212T200000
DTEND;TZID=America/New_York:20251212T200000
DTSTAMP:20260421T133922
CREATED:20250102T192709Z
LAST-MODIFIED:20250102T211438Z
UID:511-1765569600-1765569600@pinkspiceband.com
SUMMARY:Pink Spice at Crickets
DESCRIPTION:
URL:https://pinkspiceband.com/event/pink-spice-at-crickets-10/
CATEGORIES:Full Band
END:VEVENT
BEGIN:VEVENT
DTSTART;TZID=America/New_York:20251213T180000
DTEND;TZID=America/New_York:20251213T180000
DTSTAMP:20260421T133922
CREATED:20250102T192709Z
LAST-MODIFIED:20250102T211438Z
UID:512-1765648800-1765648800@pinkspiceband.com
SUMMARY:Pink Spice at Crowne Plaza
DESCRIPTION:
URL:https://pinkspiceband.com/event/pink-spice-at-crowne-plaza-13/
LOCATION:Longboards Oceanfront Melbourne at Crowne Plaza\, 2605 N Hwy A1A\, Melbourne\, FL\, United States
CATEGORIES:Full Band
END:VEVENT
BEGIN:VEVENT
DTSTART;TZID=America/New_York:20251219T170000
DTEND;TZID=America/New_York:20251219T200000
DTSTAMP:20260421T133922
CREATED:20250102T192710Z
LAST-MODIFIED:20250102T213628Z
UID:513-1766163600-1766174400@pinkspiceband.com
SUMMARY:Pink Spice at PAFB Manatee Cove
DESCRIPTION:
URL:https://pinkspiceband.com/event/pink-spice-at-pafb-manatee-cove-6/
LOCATION:Manatee Cove Marina and Yacht Club – Patrick AFB\, Bldg 1493\, Patrick AFB\, FL\, 32935\, United States
CATEGORIES:Full Band
END:VEVENT
BEGIN:VEVENT
DTSTART;TZID=America/New_York:20251220T130000
DTEND;TZID=America/New_York:20251220T130000
DTSTAMP:20260421T133922
CREATED:20250102T211439Z
LAST-MODIFIED:20250102T213427Z
UID:674-1766235600-1766235600@pinkspiceband.com
SUMMARY:Pink Spice at Elements
DESCRIPTION:
URL:https://pinkspiceband.com/event/pink-spice-at-elements-9/
LOCATION:Element Melbourne Oceanfront\, 2655 N Hwy A1A\, Melbourne\, FL\, 32903\, United States
CATEGORIES:Solo
END:VEVENT
END:VCALENDAR